BEGIN:VCALENDAR
VERSION:2.0
PRODID:-//Holy Spirit Primary School - Thornburyeast - ECPv5.0.2//NONSGML v1.0//EN
CALSCALE:GREGORIAN
METHOD:PUBLISH
X-WR-CALNAME:Holy Spirit Primary School - Thornburyeast
X-ORIGINAL-URL:https://hsthornburyeast.catholic.edu.au
X-WR-CALDESC:Events for Holy Spirit Primary School - Thornburyeast
BEGIN:VTIMEZONE
TZID:UTC
BEGIN:STANDARD
TZOFFSETFROM:+0000
TZOFFSETTO:+0000
TZNAME:UTC
DTSTART:20180101T000000
END:STANDARD
END:VTIMEZONE
BEGIN:VEVENT
DTSTART;TZID=UTC:20180804T170000
DTEND;TZID=UTC:20180804T180000
DTSTAMP:20200301T221808
CREATED:20180606T082530Z
LAST-MODIFIED:20180606T084014Z
UID:2901-1533402000-1533405600@hsthornburyeast.catholic.edu.au
SUMMARY:Senior NM Mass
DESCRIPTION:Come and Join Senior NM on Saturday 4th August at the Holy Spirit Catholic Parish  \n
URL:https://hsthornburyeast.catholic.edu.au/event/senior-nm-mass/
LOCATION:Holy Spirit Catholic Parish\, 197 Clarendon Street\, Melbourne\, VIC\, 3071\, Australia
CATEGORIES:Class Mass
ATTACH;FMTTYPE=image/jpeg:https://hsthornburyeast.catholic.edu.au/wp-content/uploads/2018/06/Mass-Calendar-1.jpg
END:VEVENT
END:VCALENDAR