BEGIN:VCALENDAR
VERSION:2.0
PRODID:-//Holy Spirit Primary School - Thornburyeast - ECPv5.0.2//NONSGML v1.0//EN
CALSCALE:GREGORIAN
METHOD:PUBLISH
X-WR-CALNAME:Holy Spirit Primary School - Thornburyeast
X-ORIGINAL-URL:https://hsthornburyeast.catholic.edu.au
X-WR-CALDESC:Events for Holy Spirit Primary School - Thornburyeast
BEGIN:VTIMEZONE
TZID:UTC
BEGIN:STANDARD
TZOFFSETFROM:+0000
TZOFFSETTO:+0000
TZNAME:UTC
DTSTART:20180101T000000
END:STANDARD
END:VTIMEZONE
BEGIN:VEVENT
DTSTART;TZID=UTC:20180615T133000
DTEND;TZID=UTC:20180615T150000
DTSTAMP:20200301T222258
CREATED:20180606T090559Z
LAST-MODIFIED:20180606T091647Z
UID:2914-1529069400-1529074800@hsthornburyeast.catholic.edu.au
SUMMARY:Senior Inter-School Sport
DESCRIPTION:Only a few weeks left of our inter-school sports tournament. Here is the schedule. \n
URL:https://hsthornburyeast.catholic.edu.au/event/senior-inter-school-sport/2018-06-15/
CATEGORIES:Sports Event
ATTACH;FMTTYPE=image/jpeg:https://hsthornburyeast.catholic.edu.au/wp-content/uploads/2018/06/Interschool-Calendar-Image-1200.jpg
END:VEVENT
END:VCALENDAR