BEGIN:VCALENDAR
VERSION:2.0
PRODID:-//Holy Spirit Primary School - Thornburyeast - ECPv5.0.2//NONSGML v1.0//EN
CALSCALE:GREGORIAN
METHOD:PUBLISH
X-WR-CALNAME:Holy Spirit Primary School - Thornburyeast
X-ORIGINAL-URL:https://hsthornburyeast.catholic.edu.au
X-WR-CALDESC:Events for Holy Spirit Primary School - Thornburyeast
BEGIN:VTIMEZONE
TZID:UTC
BEGIN:STANDARD
TZOFFSETFROM:+0000
TZOFFSETTO:+0000
TZNAME:UTC
DTSTART:20180101T000000
END:STANDARD
END:VTIMEZONE
BEGIN:VEVENT
DTSTART;TZID=UTC:20180629T090000
DTEND;TZID=UTC:20180629T133000
DTSTAMP:20200301T221755
CREATED:20180606T092332Z
LAST-MODIFIED:20180627T223339Z
UID:2920-1530262800-1530279000@hsthornburyeast.catholic.edu.au
SUMMARY:End of Term Two
DESCRIPTION:Reports go home today and two weeks of holiday. \n
URL:https://hsthornburyeast.catholic.edu.au/event/end-of-term-two/
ATTACH;FMTTYPE=image/jpeg:https://hsthornburyeast.catholic.edu.au/wp-content/uploads/2018/02/Italian-Day.jpg
END:VEVENT
END:VCALENDAR